BEGIN:VCALENDAR
VERSION:2.0
PRODID:-//swoogo.com//NONSGML kigkonsult.se iCalcreator 2.41.90//
CALSCALE:GREGORIAN
UID:35656465-3235-4132-a136-306661313365
BEGIN:VEVENT
UID:3ca0b1fb466420d5861f17172224f837aaffaca7@swoogo.com
DTSTAMP:20260424T134803Z
DESCRIPTION:Join us for the ACE ENDICO NEW ENGLAND CULINARY EXPO 2026\, an 
 exciting showcase of innovation\, flavor\, and opportunity for foodservice
  professionals of every kind.\n\nTaking place on MONDAY\, MAY 18TH FROM 11
 :00 AM TO 3:00 PM at the NEWPORT MARRIOTT IN NEWPORT\, RHODE ISLAND\, this
  dynamic event brings together top suppliers and industry experts to highl
 ight the latest and greatest in food and beverage. Attendees will have the
  chance to explore a wide range of offerings—from fresh fish and premium p
 roduce to brand-new and trending products across the market.\n\nWhether yo
 u're a major grocer\, a neighborhood deli\, a pizza shop owner\, or operat
 e a country club\, fine dining establishment\, or casual seafood spot\, th
 is expo is designed with you in mind. Discover new products to elevate you
 r menu\, connect directly with trusted suppliers\, and learn more about ho
 w Ace Endico can support your business.\n\nPlus\, don’t miss your chance t
 o ENTER TO WIN EXCITING PRIZES\, including GRAND PRIZE RED SOX TICKETS!\n
 \nCome hungry for inspiration and leave with fresh ideas\, valuable connec
 tions\, and new opportunities to grow your business. We look forward to se
 eing you there!
DTSTART:20260518T150000Z
DTEND:20260518T190000Z
LAST-MODIFIED:20260424T134803Z
LOCATION:Newport Marriott Hotel & Spa\, 25 America's Cup Ave\, Newport\, RI
  02840\, United States
SEQUENCE:0
STATUS:CONFIRMED
SUMMARY:Ace Endico New England Culinary Expo 2026
TRANSP:OPAQUE
X-ALT-DESC;FMTTYPE=text/html:<p>Join us for the <strong>Ace Endico New Engl
 and Culinary Expo 2026</strong>\, an exciting showcase of innovation\, fla
 vor\, and opportunity for foodservice professionals of every kind.</p>\n\n
 <p>Taking place on <strong>Monday\, May 18th from 11:00 AM to 3:00 PM</str
 ong> at the <strong>Newport Marriott in Newport\, Rhode Island</strong>\, 
 this dynamic event brings together top suppliers and industry experts to h
 ighlight the latest and greatest in food and beverage. Attendees will have
  the chance to explore a wide range of offerings—from fresh fish and premi
 um produce to brand-new and trending products across the market.</p>\n\n<p
 >Whether you're a major grocer\, a neighborhood deli\, a pizza shop owner\
 , or operate a country club\, fine dining establishment\, or casual seafoo
 d spot\, this expo is designed with you in mind. Discover new products to 
 elevate your menu\, connect directly with trusted suppliers\, and learn mo
 re about how Ace Endico can support your business.</p>\n\n<p>Plus\, don’t 
 miss your chance to <strong>enter to win exciting prizes</strong>\, includ
 ing <strong>grand prize Red Sox tickets</strong>!</p>\n\n<p>Come hungry fo
 r inspiration and leave with fresh ideas\, valuable connections\, and new 
 opportunities to grow your business. We look forward to seeing you there!<
 /p>
BEGIN:VALARM
UID:62663361-3862-4337-b737-396264613063
ACTION:DISPLAY
DESCRIPTION:Join us for the ACE ENDICO NEW ENGLAND CULINARY EXPO 2026\, an 
 exciting showcase of innovation\, flavor\, and opportunity for foodservice
  professionals of every kind.\n\nTaking place on MONDAY\, MAY 18TH FROM 11
 :00 AM TO 3:00 PM at the NEWPORT MARRIOTT IN NEWPORT\, RHODE ISLAND\, this
  dynamic event brings together top suppliers and industry experts to highl
 ight the latest and greatest in food and beverage. Attendees will have the
  chance to explore a wide range of offerings—from fresh fish and premium p
 roduce to brand-new and trending products across the market.\n\nWhether yo
 u're a major grocer\, a neighborhood deli\, a pizza shop owner\, or operat
 e a country club\, fine dining establishment\, or casual seafood spot\, th
 is expo is designed with you in mind. Discover new products to elevate you
 r menu\, connect directly with trusted suppliers\, and learn more about ho
 w Ace Endico can support your business.\n\nPlus\, don’t miss your chance t
 o ENTER TO WIN EXCITING PRIZES\, including GRAND PRIZE RED SOX TICKETS!\n
 \nCome hungry for inspiration and leave with fresh ideas\, valuable connec
 tions\, and new opportunities to grow your business. We look forward to se
 eing you there!
TRIGGER:-P1D
END:VALARM
END:VEVENT
END:VCALENDAR
